BEGIN:VCALENDAR
VERSION:2.0
PRODID:-//ChamberMaster//Event Calendar 2.0//EN
METHOD:PUBLISH
X-PUBLISHED-TTL:P3D
REFRESH-INTERVAL:P3D
CALSCALE:GREGORIAN
BEGIN:VEVENT
DTSTART:20250819T140000Z
DTEND:20250819T170000Z
X-MICROSOFT-CDO-ALLDAYEVENT:FALSE
SUMMARY:Free Medicare Counseling @ KB Community Center
DESCRIPTION:Medicare advice is available to Key Biscayne residents thanks to the Alliance for Aging's SHINE program. Volunteers trained by the SHINE program will provide free\, unbiased and confidential health insurance counseling to empower residents to make informed healthcare choices.\n\n\n\nFor appointments\, please call 305-671-6356. 10:00 AM - 1:00 PM at the Key Biscayne Community Center - Tuesday\, August 19 KBCC Staff Contact: Roxy Lohuis-Tejeda rlohuis@keybiscayne.fl.gov 305-365-8900
X-ALT-DESC;FMTTYPE=text/html:<br />\n<br />\n<br />\n<span style="font-size:16px\;">Medicare advice is available to Key Biscayne residents thanks to the Alliance for Aging&rsquo\;s SHINE program. Volunteers trained by the SHINE program will provide free\, unbiased and confidential health insurance counseling to empower residents to make informed healthcare choices.<br />\n<br />\nFor appointments\, please call 305-671-6356. 10:00 AM - 1:00 PM at the Key Biscayne Community Center - Tuesday\, August 19 KBCC Staff Contact: Roxy Lohuis-Tejeda rlohuis@keybiscayne.fl.gov 305-365-8900</span>
LOCATION:Key Biscayne Community Center
UID:e.330.23118
SEQUENCE:3
DTSTAMP:20260425T014603Z
URL:https://business.keybiscaynechamber.org/events/details/free-medicare-counseling-kb-community-center-23118
END:VEVENT

END:VCALENDAR
