BEGIN:VCALENDAR
VERSION:2.0
PRODID:-//ChamberMaster//Event Calendar 2.0//EN
METHOD:PUBLISH
X-PUBLISHED-TTL:P3D
REFRESH-INTERVAL:P3D
CALSCALE:GREGORIAN
BEGIN:VEVENT
DTSTART:20110702T223000Z
DTEND:20110703T003000Z
X-MICROSOFT-CDO-ALLDAYEVENT:FALSE
SUMMARY:Fourth of July Parade Committee BBQ & Pig Roast
DESCRIPTION:Join us for an Old Fashioned BBQ! Saturday July 2 from 6:30-10pm. Key Biscayne Beach Club. Whole roasted pig   hot dogs   chicken   hamburgers   Music   Beverages   and more! $20 Adults / $10 Kids under 10 Tickets available at: KB Chamber of Commerce\, Bristol's Camera\, Island Athletics\, Weekend t-shirt sales at W-D. For more info contact\; info@quiricho.com Benefits go to Key Biscayne 4th of July Parade.
X-ALT-DESC;FMTTYPE=text/html:<span style="color: rgb(0\, 0\, 205)\;"><span style="font-size: 16px\;"><strong><span data-jsid="text">Join us for an Old Fashioned BBQ! Saturday July 2 from 6:30-10pm. Key Biscayne Beach Club. Whole roasted pig &bull\; hot dogs &bull\; chicken &bull\; hamburgers &bull\; Music &bull\; Beverages &bull\; and more! $20 Adults / $10 Kids under 10 Tickets available at: KB Chamber of Commerce\, Bristol&#39\;s Camera\, Island Athletics\, Weekend t-shirt sales at W-D. For more info contact\; info@quiricho.com Benefits go to Key Biscayne 4th of July Parade.</span></strong></span></span>
LOCATION:Key Biscayne Beach Club 685 Ocean Drive Key Biscayne\, FL 33149
UID:e.330.3432
SEQUENCE:3
DTSTAMP:20260421T144623Z
URL:https://business.keybiscaynechamber.org/events/details/fourth-of-july-parade-committee-bbq-pig-roast-07-02-2011-3432
END:VEVENT

END:VCALENDAR
