BEGIN:VCALENDAR
VERSION:2.0
PRODID:-//ChamberMaster//Event Calendar 2.0//EN
METHOD:PUBLISH
X-PUBLISHED-TTL:P3D
REFRESH-INTERVAL:P3D
CALSCALE:GREGORIAN
BEGIN:VEVENT
DTSTART:20251203T230000Z
DTEND:20251204T010000Z
X-MICROSOFT-CDO-ALLDAYEVENT:FALSE
SUMMARY:Florida Grand Opera at Crossbridge
DESCRIPTION:Florida Grand Opera\n\nPresents\n\n\n\nThe Sacred Stage: Opera\, Oratorio\, And Spirituals\n\nLet The Power Of Music Lift Your Spirits And\n\nWelcome The Season With Beauty \n\nFeaturing Opera Arias & Duets\, Sacred Music\, And Moving Spirituals\n\n\n\nFeaturing\n\nMembers Of The Florida Grand Opera Studio Artist Program\n\n\n\nWith\n\nLauren Frick\, Mezzo-Soprano Dr. Jared Peroune\, Piano\n\n\n\nWith Gratitude To The Key Biscayne Community Foundation &\n\nCrossbridge Church For Their Generous Support
X-ALT-DESC;FMTTYPE=text/html:Florida Grand Opera<br />\nPresents<br />\n<br />\nThe Sacred Stage: Opera\, Oratorio\, And Spirituals<br />\nLet The Power Of Music Lift Your Spirits And<br />\nWelcome The Season With Beauty&nbsp\;<br />\nFeaturing Opera Arias &amp\; Duets\, Sacred Music\, And Moving Spirituals<br />\n<br />\nFeaturing<br />\nMembers Of The Florida Grand Opera Studio Artist Program<br />\n<br />\nWith<br />\nLauren Frick\, Mezzo-Soprano Dr. Jared Peroune\, Piano<br />\n<br />\n<em>With Gratitude To The Key Biscayne Community Foundation &amp\;<br />\nCrossbridge Church For Their Generous Support</em><br />\n<br />\n&nbsp\;
LOCATION:Crossbridge Church\, Key Biscayne
UID:e.330.23296
SEQUENCE:3
DTSTAMP:20260424T193753Z
URL:https://business.keybiscaynechamber.org/events/details/florida-grand-opera-at-crossbridge-23296
END:VEVENT

END:VCALENDAR
