BEGIN:VCALENDAR
VERSION:2.0
PRODID:-//ChamberMaster//Event Calendar 2.0//EN
METHOD:PUBLISH
X-PUBLISHED-TTL:P3D
REFRESH-INTERVAL:P3D
CALSCALE:GREGORIAN
BEGIN:VEVENT
DTSTART;VALUE=DATE:20140524
DTEND;VALUE=DATE:20140525
TRANSP:TRANSPARENT
X-MICROSOFT-CDO-ALLDAYEVENT:TRUE
SUMMARY:Fit Kids Day in Key Biscayne
DESCRIPTION:Saturday May 24\, 2014. North end of Village Green.\n\n\n\n"for kids\, by kids."\n a goal of actively combating childhood obesity. The events feature an array of outdoor activities and healthy food tastings to encourage kids to turn off the tv\, put down the video games and go outdoors to play.\n\nFor more information or to become a sponsor\, call 786-253-7270 or email contact@fitkidsday.org
X-ALT-DESC;FMTTYPE=text/html:Saturday May 24\, 2014. North end of Village Green.<br />\n<br />\n&quot\;for kids\, by kids.&quot\;\n<p style="margin:0in\;margin-bottom:.0001pt"><span style="font-size: 10pt\; font-family: 'Trebuchet MS'\, sans-serif\;">&nbsp\;a goal of actively combating childhood obesity. The events feature an array of outdoor activities and healthy food tastings to encourage kids to turn off the tv\, put down the video games and go outdoors to play.<o:p></o:p></span></p>\n\n<p style="margin:0in\;margin-bottom:.0001pt"><span style="font-size: 10pt\; font-family: 'Trebuchet MS'\, sans-serif\;">For more information or to become a sponsor\, call 786-253-7270 or email <a href="mailto:contact@fitkidsday.org" shape="rect">contact@fitkidsday.org</a><o:p></o:p></span></p>\n<span style="font-size: 12pt\; font-family: 'Times New Roman'\, serif\;">&nbsp\;&nbsp\;</span><br />\n&nbsp\;
LOCATION:
UID:e.330.4110
SEQUENCE:3
DTSTAMP:20260419T133741Z
URL:https://business.keybiscaynechamber.org/events/details/fit-kids-day-in-key-biscayne-05-24-2014-4110
END:VEVENT

END:VCALENDAR
