BEGIN:VCALENDAR
VERSION:2.0
PRODID:-//ChamberMaster//Event Calendar 2.0//EN
METHOD:PUBLISH
X-PUBLISHED-TTL:P3D
REFRESH-INTERVAL:P3D
CALSCALE:GREGORIAN
BEGIN:VEVENT
DTSTART:20220906T220000Z
DTEND:20220907T030000Z
X-MICROSOFT-CDO-ALLDAYEVENT:FALSE
SUMMARY:First Budget Hearing
DESCRIPTION:The Village of Key Biscayne will hold its first budget hearing in the Council Chamber (560 Crandon Blvd- Rear of Fire Station). This meeting is open to the public in the Council Chamber as well as available by Zoom and on Channel 77.\n\n	Zoom Meeting ID: 231 627 8415. There is no passcode for this meeting.\n	Dial in using the Zoom telephone numbers: +1 301 715 8592\; +1 312 626 6799\; or +1 929 205 6099 (any of the three numbers will work) followed by the Zoom meeting ID: 231 627 8415. Click Here for detailed instructions.\n	Watch live on Channel 77 (Comcast 77 / AT&T 99).\n\nClick here for the full AGENDA.
X-ALT-DESC;FMTTYPE=text/html:<br />\n<br />\nThe Village of Key Biscayne will hold its first budget hearing in the Council Chamber (560 Crandon Blvd- Rear of Fire Station). This meeting is open to the public in the Council Chamber as well as available by Zoom and on Channel 77.\n<ul>\n	<li>Zoom Meeting ID: 231 627 8415. There is no passcode for this meeting.</li>\n	<li>Dial in using the Zoom telephone numbers: +1 301 715 8592\; +1 312 626 6799\; or +1 929 205 6099 (any of the three numbers will work) followed by the Zoom meeting ID: 231 627 8415. Click Here for detailed instructions.</li>\n	<li>Watch live on Channel 77 (Comcast 77 / AT&amp\;T 99).</li>\n</ul>\nClick here for the full <a href="https://d3n9y02raazwpg.cloudfront.net/keybiscayne/1804f97f-5487-11ec-a798-0050569183fa-0649631e-a705-4015-a003-e954eae41bc1-1661980192.pdf">AGENDA</a>.<br />\n&nbsp\;
LOCATION:
UID:e.330.21877
SEQUENCE:3
DTSTAMP:20260424T072518Z
URL:https://business.keybiscaynechamber.org/events/details/first-budget-meeting-21877
END:VEVENT

END:VCALENDAR
