BEGIN:VCALENDAR
VERSION:2.0
PRODID:-//ChamberMaster//Event Calendar 2.0//EN
METHOD:PUBLISH
X-PUBLISHED-TTL:P3D
REFRESH-INTERVAL:P3D
CALSCALE:GREGORIAN
BEGIN:VEVENT
DTSTART:20251113T233000Z
DTEND:20251114T020000Z
X-MICROSOFT-CDO-ALLDAYEVENT:FALSE
SUMMARY:Film Fundraiser to end Polio: BREATHE
DESCRIPTION:SAVE THE DATE!\n\n\n\nHelp Rotary International in their fight to eradicate polio. Join Rotary of Key Biscayne on Thursday\, November 13th at 6:30pm   9 pm at St Agnes Key Biscayne (100 Harbor Dr) for a special fundraising event to raise local funds in the fight against polio by attending a screening of the movie BREATHE directed by Andy Serkis.\n\n\n\nThe inspiring true love story of Robin (Andrew Garfield) and Diana Cavendish (Claire Foy)\, an adventurous couple who refuse to give up in the face of a devastating disease. Their heartwarming celebration of human possibility marks the directorial debut of Andy Serkis.
X-ALT-DESC;FMTTYPE=text/html:<br />\n<span style="font-size:18px\;">SAVE THE DATE!</span><br />\n<br />\n<span style="font-size:18px\;"><span style="text-size-adjust: auto\; font-family: Arial\, sans-serif\; color: rgb(85\, 85\, 85)\;">Help Rotary International in their fight to eradicate polio.</span><span style="text-size-adjust: auto\; font-family: Arial\, sans-serif\; color: rgb(85\, 85\, 85)\;"> Join Rotary of Key Biscayne on Thursday\, November 13th at 6:30pm &ndash\; 9 pm at St Agnes Key Biscayne (100 Harbor Dr) for a special fundraising event to raise local funds in the fight against polio by attending a screening of the movie BREATHE directed by Andy Serkis.<br />\n<br />\nThe inspiring true love story of Robin (Andrew Garfield) and Diana Cavendish (Claire Foy)\, an adventurous couple who refuse to give up in the face of a devastating disease. Their heartwarming celebration of human possibility marks the directorial debut of Andy Serkis.</span></span>
LOCATION:St Agnes Catholic Church auditorium
UID:e.330.23220
SEQUENCE:3
DTSTAMP:20260424T195432Z
URL:https://business.keybiscaynechamber.org/events/details/film-fundraiser-to-end-polio-breathe-23220
END:VEVENT

END:VCALENDAR
