BEGIN:VCALENDAR
VERSION:2.0
PRODID:-//ChamberMaster//Event Calendar 2.0//EN
METHOD:PUBLISH
X-PUBLISHED-TTL:P3D
REFRESH-INTERVAL:P3D
CALSCALE:GREGORIAN
BEGIN:VEVENT
DTSTART:20130420T114500Z
DTEND:20130420T134500Z
X-MICROSOFT-CDO-ALLDAYEVENT:FALSE
SUMMARY:FICPA Educational Foundation Money Run 5K
DESCRIPTION:About the Race\n\nSince 1989\, the FICPA Educational Foundation has hosted a 5K Run/Walk in South Florida. On Saturday\, April 20\, 2013 we will start a new tradition and host our 24th annual race\, the FICPA Educational Foundation Money Run\, in Bill Baggs State Park in Key Biscayne\, FL.\n\n\n\nThe Money Run will be held the Saturday after tax day   Saturday\, April 20\, 2013\, at 7:45 a.m. in Bill Baggs State Park in Key Biscayne. Proceeds from the event will be awarded to African-American accounting students in South Florida in memory of Lewis Davis\, Miami-Dade County's first African-American CPA\, community leader and co-founder of the Greater Miami-South Florida Chapter   National Association of Black Accountants\, Inc.\n\nThis annual event has tremendous local support and has become a great experience for families and co-workers to get together for fun and exercise while contributing to a very worthwhile scholarship fund. All runners are invited to participate in the Money Run. It is important to continue this great support\, and we hope you join us again in Key Biscayne!\n\n\n\nSince its inception\, the Money Run (formerly the 1040K) has raised more than $250\,000 in scholarship funds. At the race\, the FICPA Educational Foundation presented several $3\,000 scholarships to deserving accountings students.\n\n\n\nThanks to the support of our sponsors\, the FICPA Educational Foundation has increased the amount and the number of scholarships awarded to students each year. The Money Run Board of Directors would like to thank the runners and walkers who will contribute to the future of the CPA profession by participating in this race.\n\n\n\nVisit www.MoneyRun.org to register!
X-ALT-DESC;FMTTYPE=text/html:About the Race<br />\nSince 1989\, the FICPA Educational Foundation has hosted a 5K Run/Walk in South Florida. On Saturday\, April 20\, 2013 we will start a new tradition and host our 24th annual race\, the FICPA Educational Foundation Money Run\, in Bill Baggs State Park in Key Biscayne\, FL.<br />\n<br />\nThe Money Run will be held the Saturday after tax day &ndash\; Saturday\, April 20\, 2013\, at 7:45 a.m. in Bill Baggs State Park in Key Biscayne. Proceeds from the event will be awarded to African-American accounting students in South Florida in memory of Lewis Davis\, Miami-Dade County&rsquo\;s first African-American CPA\, community leader and co-founder of the Greater Miami-South Florida Chapter &ndash\; National Association of Black Accountants\, Inc.<br />\nThis annual event has tremendous local support and has become a great experience for families and co-workers to get together for fun and exercise while contributing to a very worthwhile scholarship fund. All runners are invited to participate in the Money Run. It is important to continue this great support\, and we hope you join us again in Key Biscayne!<br />\n<br />\nSince its inception\, the Money Run (formerly the 1040K) has raised more than $250\,000 in scholarship funds. At the race\, the FICPA Educational Foundation presented several $3\,000 scholarships to deserving accountings students.<br />\n<br />\nThanks to the support of our sponsors\, the FICPA Educational Foundation has increased the amount and the number of scholarships awarded to students each year. The Money Run Board of Directors would like to thank the runners and walkers who will contribute to the future of the CPA profession by participating in this race.<br />\n<br />\nVisit www.MoneyRun.org to register!&nbsp\;
LOCATION:Bill Baggs State Park
UID:e.330.3887
SEQUENCE:3
DTSTAMP:20260420T075100Z
URL:https://business.keybiscaynechamber.org/events/details/ficpa-educational-foundation-money-run-5k-04-20-2013-3887
END:VEVENT

END:VCALENDAR
