BEGIN:VCALENDAR
VERSION:2.0
PRODID:-//ChamberMaster//Event Calendar 2.0//EN
METHOD:PUBLISH
X-PUBLISHED-TTL:P3D
REFRESH-INTERVAL:P3D
CALSCALE:GREGORIAN
BEGIN:VEVENT
DTSTART:20111210T170000Z
DTEND:20111210T210000Z
X-MICROSOFT-CDO-ALLDAYEVENT:FALSE
SUMMARY:Festivities for the Holidays at The Square
DESCRIPTION:SANTA WILL ARRIVE WITH MAJIC ELVES\n\n	JINGLE AND JANGLE\n\n	NOON - 4 P.M. FOOD\, MUSIC\, SLIDES AND BOUNCE HOUSES
X-ALT-DESC;FMTTYPE=text/html:<h1 style="text-align: center">\n	<span style="color: #ff0000">SANTA WILL ARRIVE WITH MAJIC ELVES<br />\n	JINGLE AND JANGLE</span></h1>\n<h1 style="text-align: center">\n	<span style="color: #ff0000"><span style="font-size: 16px">NOON - 4 P.M.&nbsp\;FOOD\, MUSIC\, SLIDES AND BOUNCE HOUSES</span></span><br />\n	&nbsp\;</h1>\n<p style="text-align: center">\n	<br />\n	<br />\n	&nbsp\;</p>\n
LOCATION:The Square Shopping Center
UID:e.330.3534
SEQUENCE:3
DTSTAMP:20260421T074400Z
URL:https://business.keybiscaynechamber.org/events/details/festivities-for-the-holidays-at-the-square-12-10-2011-3534
END:VEVENT

END:VCALENDAR
