BEGIN:VCALENDAR
VERSION:2.0
PRODID:-//ChamberMaster//Event Calendar 2.0//EN
METHOD:PUBLISH
X-PUBLISHED-TTL:P3D
REFRESH-INTERVAL:P3D
CALSCALE:GREGORIAN
BEGIN:VEVENT
DTSTART:20111209T170000Z
DTEND:20111209T230000Z
X-MICROSOFT-CDO-ALLDAYEVENT:FALSE
SUMMARY:Festivities for the Holidays at The Square
DESCRIPTION:COME & JOIN US FOR TWO DAYS OF FESTIVITIES  \n\n	AT THE SQUARE SHOPPING CENTER\n\n\nFriday December 9th\, noon-6 p.m.\n\nLunch Specials and Early Bird Dinners will be served from Patagonia\, Puntino and Costa Med.  Gifts from merchants\, raffles\, hors d'oeuvres and wine.
X-ALT-DESC;FMTTYPE=text/html:<h1 style="text-align: center">\n	<span style="color: #ff0000">COME &amp\; JOIN US FOR TWO DAYS OF FESTIVITIES</span><span _fck_bookmark="1" style="display: none">&nbsp\;</span><span _fck_bookmark="1" style="display: none">&nbsp\;</span></h1>\n<h1 style="text-align: center">\n	<span style="color: #ff0000">AT THE SQUARE&nbsp\;SHOPPING CENTER</span></h1>\n<br />\n<span style="color: #ff0000"><span style="font-size: 18px">Friday December 9th\, noon-6 p.m.<br />\nLunch Specials and Early Bird Dinners will be served from Patagonia\, Puntino and Costa Med.&nbsp\; Gifts from merchants\, raffles\, hors d&#39\;oeuvres and wine.</span></span><br />\n<p style="text-align: center">\n	&nbsp\;</p>\n<span _fck_bookmark="1" style="display: none">&nbsp\;</span><span _fck_bookmark="1" style="display: none">&nbsp\;</span><br />\n<br />\n<br />\n<br />\n
LOCATION:The Square Shopping Center
UID:e.330.3533
SEQUENCE:3
DTSTAMP:20260421T074421Z
URL:https://business.keybiscaynechamber.org/events/details/festivities-for-the-holidays-at-the-square-12-09-2011-3533
END:VEVENT

END:VCALENDAR
