BEGIN:VCALENDAR
VERSION:2.0
PRODID:-//ChamberMaster//Event Calendar 2.0//EN
METHOD:PUBLISH
X-PUBLISHED-TTL:P3D
REFRESH-INTERVAL:P3D
CALSCALE:GREGORIAN
BEGIN:VEVENT
DTSTART:20250614T113000Z
DTEND:20250614T143000Z
X-MICROSOFT-CDO-ALLDAYEVENT:FALSE
SUMMARY:Father's Day Run
DESCRIPTION:Runners of all ages and paces are invited to celebrate Father's Day with a morning run along the waterfront at Playita in Key Biscayne\, across from the Miami Marine Stadium.\n\n\n\nDesigned as a low-stress\, community-focused event\, this 5K/10K/13.1 run offers a relaxed environment without timing chips or formal race infrastructure just a scenic route and supportive coordination.
X-ALT-DESC;FMTTYPE=text/html:<br />\n<br />\nRunners of all ages and paces are invited to celebrate Father&rsquo\;s Day with a morning run along the waterfront at Playita in Key Biscayne\, across from the Miami Marine Stadium.<br />\n<br />\nDesigned as a low-stress\, community-focused event\, this 5K/10K/13.1 run offers a relaxed environment without timing chips or formal race infrastructure&mdash\;just a scenic route and supportive coordination.
LOCATION:Playita\, Key Biscayne\, Across from Miami Marine Stadium
UID:e.330.23097
SEQUENCE:3
DTSTAMP:20260425T032437Z
URL:https://business.keybiscaynechamber.org/events/details/father-s-day-run-23097
END:VEVENT

END:VCALENDAR
