BEGIN:VCALENDAR
VERSION:2.0
PRODID:-//ChamberMaster//Event Calendar 2.0//EN
METHOD:PUBLISH
X-PUBLISHED-TTL:P3D
REFRESH-INTERVAL:P3D
CALSCALE:GREGORIAN
BEGIN:VEVENT
DTSTART:20250616T020000Z
DTEND:20250615T220000Z
X-MICROSOFT-CDO-ALLDAYEVENT:FALSE
SUMMARY:Father's Day at Vinya Wine and Market
DESCRIPTION:This Father's Day\, Vinya is going Old Fashioned! \n\n\n\nSunday\, June 15th Celebrate dad with bold new cocktails\, one free Old Fashioned with any dine-in purchase\, 2-for-1 specials\, 15% off all retail spirits - and a vibe as smooth as his favorite pour.\n\n\n\nWhether he's a classic connoisseur or a modern mix master\, Vinya has something just his style.\n\n\n\nJoin us for a toast to the fathers\, father figures\, and all the men who make life richer.
X-ALT-DESC;FMTTYPE=text/html:<br />\n<br />\nThis Father&#39\;s Day\, Vinya is going Old Fashioned!&nbsp\;<br />\n<br />\nSunday\, June 15th Celebrate dad with bold new cocktails\, one free Old Fashioned with any dine-in purchase\, 2-for-1 specials\, 15% off all retail spirits - and a vibe as smooth as his favorite pour.<br />\n<br />\nWhether he&#39\;s a classic connoisseur or a modern mix master\, Vinya has something just his style.<br />\n<br />\nJoin us for a toast to the fathers\, father figures\, and all the men who make life richer.
LOCATION:Vinya Wine & Market
UID:e.330.23101
SEQUENCE:3
DTSTAMP:20260425T032804Z
URL:https://business.keybiscaynechamber.org/events/details/father-s-day-at-vinya-wine-and-market-23101
END:VEVENT

END:VCALENDAR
