BEGIN:VCALENDAR
VERSION:2.0
PRODID:-//ChamberMaster//Event Calendar 2.0//EN
METHOD:PUBLISH
X-PUBLISHED-TTL:P3D
REFRESH-INTERVAL:P3D
CALSCALE:GREGORIAN
BEGIN:VEVENT
DTSTART:20251109T010000Z
DTEND:20251109T045500Z
X-MICROSOFT-CDO-ALLDAYEVENT:FALSE
SUMMARY:Fancy Pants 3!
DESCRIPTION:TOM BERCU PRESENTS IS HOSTING THE THIRD ANNUAL FANCY PANTS PARTY - MIAMI EDITION!\n\n\n\nTHE EVENT IS HEADLINED BY DJ RAVIN FROM BUDDHA-BAR PARIS. SCENARIO PHOTOGRAPHY FROM LA IS PRODUCING A HOLLYWOOD STYLE SET FOR GUESTS TO SHOW OFF THEIR FANCY PANTS.\n\n\n\nTHE FANCY PANTS PARTY IS BOTH A FUNDRAISER AND A CLOTHING DRIVE. PLEASE BRING AS MUCH NEW OR GENTLY WORK CLOTHING AS YOU CAN!
X-ALT-DESC;FMTTYPE=text/html:<br />\n<br />\n<span style="font-size:18px\;">TOM BERCU PRESENTS IS HOSTING THE THIRD ANNUAL FANCY PANTS PARTY - MIAMI EDITION!<br />\n<br />\nTHE EVENT IS HEADLINED BY DJ RAVIN FROM BUDDHA-BAR PARIS. SCENARIO PHOTOGRAPHY FROM LA IS PRODUCING A HOLLYWOOD STYLE SET FOR GUESTS TO SHOW OFF THEIR FANCY PANTS.<br />\n<br />\nTHE FANCY PANTS PARTY IS BOTH A FUNDRAISER AND A CLOTHING DRIVE. PLEASE BRING AS MUCH NEW OR GENTLY WORK CLOTHING AS YOU CAN!</span>
LOCATION:Private Residence
UID:e.330.23236
SEQUENCE:3
DTSTAMP:20260424T193627Z
URL:https://business.keybiscaynechamber.org/events/details/fancy-pants-3-23236
END:VEVENT

END:VCALENDAR
