BEGIN:VCALENDAR
VERSION:2.0
PRODID:-//ChamberMaster//Event Calendar 2.0//EN
METHOD:PUBLISH
X-PUBLISHED-TTL:P3D
REFRESH-INTERVAL:P3D
CALSCALE:GREGORIAN
BEGIN:VEVENT
DTSTART:20121027T230000Z
DTEND:20121028T000000Z
X-MICROSOFT-CDO-ALLDAYEVENT:FALSE
SUMMARY:Fall Concert Series: Pianist Asiya Korepanova
DESCRIPTION:Fall Concert Series continues...\n\n\n\nThis installment features Moscow Philharmonic Society Soloist and Pianist Asiya Korepanova\, winner of numerous prestigious international awards and competitive accolades.
X-ALT-DESC;FMTTYPE=text/html:<span style="font-size: 14px">Fall Concert Series continues...</span><br />\n<br />\n<span style="font-size: 14px"><span style="font-family: georgia\, serif"><span style="font-family: verdana">This installment features Moscow Philharmonic Society Soloist and Pianist <strong>Asiya Korepanova</strong>\, winner of numerous prestigious international awards and competitive accolades</span>.&nbsp\;</span></span>
LOCATION:Key Biscayne Community Center
UID:e.330.3787
SEQUENCE:3
DTSTAMP:20260420T174648Z
URL:https://business.keybiscaynechamber.org/events/details/fall-concert-series-pianist-asiya-korepanova-10-27-2012-3787
END:VEVENT

END:VCALENDAR
