BEGIN:VCALENDAR
VERSION:2.0
PRODID:-//ChamberMaster//Event Calendar 2.0//EN
METHOD:PUBLISH
X-PUBLISHED-TTL:P3D
REFRESH-INTERVAL:P3D
CALSCALE:GREGORIAN
BEGIN:VEVENT
DTSTART:20111130T223000Z
DTEND:20111130T233000Z
X-MICROSOFT-CDO-ALLDAYEVENT:FALSE
SUMMARY:Facebook 101 for Business
DESCRIPTION:Learn how to make a Facebook page or claim your Facebook page for your business.\n\nYou must register by calling the Chamber at 305.361.5207 as seating is limited. Bring a netbook or laptop - a smart phone\, Ipad or Iphone will not work for this seminar.
X-ALT-DESC;FMTTYPE=text/html:<span style="font-size: 16px"><span style="font-family: tahoma">Learn how to make a Facebook page or claim your Facebook page for your business.<br />\nYou must register by calling the Chamber at 305.361.5207 as seating is limited. Bring a netbook or laptop - a smart phone\, Ipad or Iphone will not work for this seminar.</span></span>
LOCATION:Village Council Chambers
UID:e.330.3548
SEQUENCE:3
DTSTAMP:20260421T090134Z
URL:https://business.keybiscaynechamber.org/events/details/facebook-101-for-business-11-30-2011-3548
END:VEVENT

END:VCALENDAR
