BEGIN:VCALENDAR
VERSION:2.0
PRODID:-//ChamberMaster//Event Calendar 2.0//EN
METHOD:PUBLISH
X-PUBLISHED-TTL:P3D
REFRESH-INTERVAL:P3D
CALSCALE:GREGORIAN
BEGIN:VEVENT
DTSTART:20130417T213000Z
DTEND:20130418T000000Z
X-MICROSOFT-CDO-ALLDAYEVENT:FALSE
SUMMARY:Event at University of Miami Rosenstiel School
DESCRIPTION:SEA SECRETS LECTURE SERIES\n\n	\n\n	\n\n	CHOREOGRAPHING OCEAN CONSERVATION\n\n	\n\n	Tierney Thys\, National Geographic Explorer\n\n	\n\n	We need to tap all of our creative talents to help conserve our vital ocean resources. With this in mind\, National Geographic Explorer\, Tierney Thys\, works closely with photographers\, dancers\, filmmakers\, gamers and other artists to help infuse quality science and conservation messaging into their work. In this media rich presentation\, this TED braintrust member will present examples of what has and hasn't worked\, and discuss the value of reaching both the heart and mind to move conservation issues forward.
X-ALT-DESC;FMTTYPE=text/html:<div style="text-align: center">\n	<span style="font-size: 16px"><span style="font-family: georgia\, serif"><em><span style="color: blue"><span style="font-family: georgia\, serif"><span style="font-family: georgia\, serif">SEA SECRETS LECTURE SERIES</span><br />\n	<br />\n	<br />\n	CHOREOGRAPHING OCEAN CONSERVATION</span></span></em><br />\n	<br />\n	<span style="color: blue"><span style="font-family: georgia\, serif">Tierney Thys\, National Geographic Explorer</span></span></span></span><br />\n	<br />\n	<span style="font-size: 12px"><span style="font-family: georgia\, serif"><span style="font-size: 16px"><span style="font-family: times new roman">We need to tap all of our creative talents to help conserve our vital ocean resources. With this in mind\, National Geographic Explorer\, Tierney Thys\, works closely with photographers\, dancers\, filmmakers\, gamers and other artists to help infuse quality science and conservation messaging into their work.&nbsp\;In this media rich presentation\, this TED braintrust member will present examples of what has and hasn&rsquo\;t worked\, and discuss the value of reaching both the heart and mind to move conservation issues forward.</span></span></span></span><br />\n	<br />\n	<br />\n	&nbsp\;</div>\n
LOCATION:Rosenstiel School Auditorium 4600 Rickenbacker Causeway\, Virginia Key\, FL 33149 Please park at the Miami Seaquarium due to construction on campus.
UID:e.330.3891
SEQUENCE:3
DTSTAMP:20260420T075919Z
URL:https://business.keybiscaynechamber.org/events/details/event-at-university-of-miami-rosenstiel-school-04-17-2013-3891
END:VEVENT

END:VCALENDAR
