BEGIN:VCALENDAR
VERSION:2.0
PRODID:-//ChamberMaster//Event Calendar 2.0//EN
METHOD:PUBLISH
X-PUBLISHED-TTL:P3D
REFRESH-INTERVAL:P3D
CALSCALE:GREGORIAN
BEGIN:VEVENT
DTSTART:20131221T220000Z
DTEND:20131222T010000Z
X-MICROSOFT-CDO-ALLDAYEVENT:FALSE
SUMMARY:Event at Stefano's Wine & Liquor
DESCRIPTION:ARGENTINE WINE TASTING\n\n\n\n\n\nNICASIO\, BONARDA\n\n\n\nBODEGAS IACCARINI\, BONARDA\n\n\n\nRUM TASTING\n\n\n\nRON ATLANTICO\, DOMINICAN REPUBLIC
X-ALT-DESC;FMTTYPE=text/html:<span style="font-size: 14px"><u><strong>ARGENTINE WINE TASTING</strong></u><br />\n<br />\n<br />\nNICASIO\, BONARDA<br />\n<br />\nBODEGAS IACCARINI\, BONARDA<br />\n<br />\n<u><strong>RUM TASTING</strong></u><br />\n<br />\nRON ATLANTICO\, DOMINICAN REPUBLIC</span>
LOCATION:STEFANO?S WINE & LIQUOR AT THE GALLERIA MALL
UID:e.330.4040
SEQUENCE:3
DTSTAMP:20260419T204117Z
URL:https://business.keybiscaynechamber.org/events/details/event-at-stefano-s-wine-liquor-12-21-2013-4040
END:VEVENT

END:VCALENDAR
