BEGIN:VCALENDAR
VERSION:2.0
PRODID:-//ChamberMaster//Event Calendar 2.0//EN
METHOD:PUBLISH
X-PUBLISHED-TTL:P3D
REFRESH-INTERVAL:P3D
CALSCALE:GREGORIAN
BEGIN:VEVENT
DTSTART:20131220T220000Z
DTEND:20131221T010000Z
X-MICROSOFT-CDO-ALLDAYEVENT:FALSE
SUMMARY:Event at Stefano's Wine & Liquor
DESCRIPTION:CHAMPAGNE TASTING\n\n\n\nLAURENT PERRIER ROSE & BRUT\n\n\n\n\n\nSHERRY TASTING\n\n\n\nLUSTAU\,  SOUTHERN SPAIN
X-ALT-DESC;FMTTYPE=text/html:<span style="font-size: 14px"><u><strong>CHAMPAGNE TASTING</strong></u><br />\n<br />\nLAURENT PERRIER ROSE &amp\; BRUT<br />\n<br />\n<br />\n<u><strong>SHERRY TASTING</strong></u><br />\n<br />\nLUSTAU\,&nbsp\; SOUTHERN SPAIN</span>
LOCATION:STEFANO?S WINE & LIQUOR AT THE GALLERIA MALL
UID:e.330.4039
SEQUENCE:3
DTSTAMP:20260419T191808Z
URL:https://business.keybiscaynechamber.org/events/details/event-at-stefano-s-wine-liquor-12-20-2013-4039
END:VEVENT

END:VCALENDAR
