BEGIN:VCALENDAR
VERSION:2.0
PRODID:-//ChamberMaster//Event Calendar 2.0//EN
METHOD:PUBLISH
X-PUBLISHED-TTL:P3D
REFRESH-INTERVAL:P3D
CALSCALE:GREGORIAN
BEGIN:VEVENT
DTSTART:20131207T220000Z
DTEND:20131208T010000Z
X-MICROSOFT-CDO-ALLDAYEVENT:FALSE
SUMMARY:Event at Stefano's Wine & Liquor
DESCRIPTION:NEW ZEALAND WINES AND RUM TASTING\n\n\n\nBANCROFT\, SAVIGNON BLANC\, NEW ZEALAND\n\n\n\n\n\nRUM\n\n\n\nBOTRAN RUM\, GUATEMALA
X-ALT-DESC;FMTTYPE=text/html:<strong><span style="font-size: 14px"><u>NEW ZEALAND WINES AND RUM TASTING</u><br />\n<br />\nBANCROFT\, SAVIGNON BLANC\, NEW ZEALAND<br />\n<br />\n<br />\n<u>RUM</u><br />\n<br />\nBOTRAN RUM\, GUATEMALA</span></strong>
LOCATION:STEFANO?S WINE & LIQUOR AT THE GALLERIA MALL
UID:e.330.4033
SEQUENCE:3
DTSTAMP:20260419T191759Z
URL:https://business.keybiscaynechamber.org/events/details/event-at-stefano-s-wine-liquor-12-07-2013-4033
END:VEVENT

END:VCALENDAR
