BEGIN:VCALENDAR
VERSION:2.0
PRODID:-//ChamberMaster//Event Calendar 2.0//EN
METHOD:PUBLISH
X-PUBLISHED-TTL:P3D
REFRESH-INTERVAL:P3D
CALSCALE:GREGORIAN
BEGIN:VEVENT
DTSTART:20131206T220000Z
DTEND:20131207T010000Z
X-MICROSOFT-CDO-ALLDAYEVENT:FALSE
SUMMARY:Event at Stefano's Wine & Liquor
DESCRIPTION:SINGLE MALT SCOTCH\, PINOT NOIR & PROSECCO TASTING\n\n\n\nTHE HITCHING POST\, SANTA BARBARA\n\n\n\nSYLTBAR PROSECCO\, ITALY\n\n\n\nSCOTCH\n\n\n\nGLENFIDICH SINGLE MALT
X-ALT-DESC;FMTTYPE=text/html:<strong><span style="font-size: 14px"><u>SINGLE MALT SCOTCH\, PINOT NOIR &amp\; PROSECCO TASTING</u><br />\n<br />\nTHE HITCHING POST\, SANTA BARBARA<br />\n<br />\nSYLTBAR PROSECCO\, ITALY<br />\n<br />\n<u>SCOTCH</u><br />\n<br />\nGLENFIDICH SINGLE MALT</span></strong><br />\n<br />\n
LOCATION:STEFANO?S WINE & LIQUOR AT THE GALLERIA MALL
UID:e.330.4032
SEQUENCE:3
DTSTAMP:20260419T204114Z
URL:https://business.keybiscaynechamber.org/events/details/event-at-stefano-s-wine-liquor-12-06-2013-4032
END:VEVENT

END:VCALENDAR
