BEGIN:VCALENDAR
VERSION:2.0
PRODID:-//ChamberMaster//Event Calendar 2.0//EN
METHOD:PUBLISH
X-PUBLISHED-TTL:P3D
REFRESH-INTERVAL:P3D
CALSCALE:GREGORIAN
BEGIN:VEVENT
DTSTART:20131123T220000Z
DTEND:20131124T010000Z
X-MICROSOFT-CDO-ALLDAYEVENT:FALSE
SUMMARY:Event at Stefano's Wine & Liquor
DESCRIPTION:ITALIAN PROSECCO & PREMIUM RUM TASTING\n\n\n\n\n\nFANTINEL PROSECCO\, BRUT & ROSE\, ITALY\n\n\n\n\n\nRUM\n\n\n\nRON ATLANTICO\, DOMINICAN REPUBLIC
X-ALT-DESC;FMTTYPE=text/html:<span style="font-size: 14px"><strong><u>ITALIAN PROSECCO &amp\; PREMIUM RUM TASTING</u><br />\n<br />\n<br />\nFANTINEL PROSECCO\, BRUT &amp\; ROSE\, ITALY<br />\n<br />\n<br />\n<u>RUM</u><br />\n<br />\nRON ATLANTICO\, DOMINICAN REPUBLIC</strong></span>
LOCATION:STEFANO?S WINE & LIQUOR AT THE GALLERIA MALL
UID:e.330.4026
SEQUENCE:3
DTSTAMP:20260419T204140Z
URL:https://business.keybiscaynechamber.org/events/details/event-at-stefano-s-wine-liquor-11-23-2013-4026
END:VEVENT

END:VCALENDAR
