BEGIN:VCALENDAR
VERSION:2.0
PRODID:-//ChamberMaster//Event Calendar 2.0//EN
METHOD:PUBLISH
X-PUBLISHED-TTL:P3D
REFRESH-INTERVAL:P3D
CALSCALE:GREGORIAN
BEGIN:VEVENT
DTSTART:20131122T220000Z
DTEND:20131123T010000Z
X-MICROSOFT-CDO-ALLDAYEVENT:FALSE
SUMMARY:Event at Stefano's Wine & Liquor
DESCRIPTION:FRENCH BURGUNDY WINES & PREMIUM VODKA\n\n\n\n\n\nLOUIS JADOT WINES\,  GEVREY CHAMBERTIN & PULIGNY MONTRACHET\n\nBUTRGUNDY\, FRANCE\n\n\n\n\n\nVODKA\n\n\n\nDOUBLE CROSS VODKA
X-ALT-DESC;FMTTYPE=text/html:<strong><span style="font-size: 14px"><u>FRENCH BURGUNDY WINES &amp\; PREMIUM VODKA</u><br />\n<br />\n<br />\nLOUIS JADOT WINES\,&nbsp\; GEVREY CHAMBERTIN &amp\; PULIGNY MONTRACHET<br />\nBUTRGUNDY\, FRANCE<br />\n<br />\n<br />\n<u>VODKA</u><br />\n<br />\nDOUBLE CROSS </span></strong>VODKA
LOCATION:STEFANO?S WINE & LIQUOR AT THE GALLERIA MALL
UID:e.330.4025
SEQUENCE:3
DTSTAMP:20260419T204151Z
URL:https://business.keybiscaynechamber.org/events/details/event-at-stefano-s-wine-liquor-11-22-2013-4025
END:VEVENT

END:VCALENDAR
