BEGIN:VCALENDAR
VERSION:2.0
PRODID:-//ChamberMaster//Event Calendar 2.0//EN
METHOD:PUBLISH
X-PUBLISHED-TTL:P3D
REFRESH-INTERVAL:P3D
CALSCALE:GREGORIAN
BEGIN:VEVENT
DTSTART:20131116T220000Z
DTEND:20131117T010000Z
X-MICROSOFT-CDO-ALLDAYEVENT:FALSE
SUMMARY:Event at Stefano's Wine & Liquor
DESCRIPTION:CHAMPAGNE & RUM TASTING\n\n\n\n\n\nCHAMPAGNE\n\nESTERLIN CHAMPAGNE\,   REIMS\, FRANCE\n\n\n\n\n\nRUM\n\nMOUNT GAY BLACK RUM\,  BARBADOS
X-ALT-DESC;FMTTYPE=text/html:<span style="font-size: 14px"><strong>CHAMPAGNE &amp\; RUM TASTING</strong><br />\n<br />\n<br />\n<u><strong>CHAMPAGNE</strong></u><br />\nESTERLIN CHAMPAGNE\,&nbsp\;&nbsp\; REIMS\, FRANCE<br />\n<br />\n<br />\n<u><strong>RUM</strong></u><br />\nMOUNT GAY BLACK RUM\,&nbsp\; BARBADOS</span>
LOCATION:STEFANO?S WINE & LIQUOR AT THE GALLERIA MALL
UID:e.330.4024
SEQUENCE:3
DTSTAMP:20260419T222600Z
URL:https://business.keybiscaynechamber.org/events/details/event-at-stefano-s-wine-liquor-11-16-2013-4024
END:VEVENT

END:VCALENDAR
