BEGIN:VCALENDAR
VERSION:2.0
PRODID:-//ChamberMaster//Event Calendar 2.0//EN
METHOD:PUBLISH
X-PUBLISHED-TTL:P3D
REFRESH-INTERVAL:P3D
CALSCALE:GREGORIAN
BEGIN:VEVENT
DTSTART;VALUE=DATE:20131112
DTEND;VALUE=DATE:20131113
TRANSP:TRANSPARENT
X-MICROSOFT-CDO-ALLDAYEVENT:TRUE
SUMMARY:Event at Stefano's Wine & Liquor
DESCRIPTION:NAPA VALLEY WINES & RUM TASTING\n\n\n\nALTAMURA CABERNET SAVIGNON\,  NAPA VALLEY\,  TOP 100 WINE SPECTATOR\n\nJORDAN CHARDONNAY\, NAPA VALLEY\n\n\n\nRUM\n\n\n\nRON BOTRAN\, GUATEMALA
X-ALT-DESC;FMTTYPE=text/html:<span style="font-size: 14px"><u><strong>NAPA VALLEY WINES &amp\; RUM TASTING</strong></u><br />\n<br />\nALTAMURA CABERNET SAVIGNON\,&nbsp\; NAPA VALLEY\,&nbsp\; TOP 100 WINE SPECTATOR<br />\nJORDAN CHARDONNAY\, NAPA VALLEY<br />\n<br />\n<u><strong>RUM</strong></u><br />\n<br />\nRON BOTRAN\, GUATEMALA</span>
LOCATION:STEFANO?S WINE & LIQUOR AT THE GALLERIA MALL
UID:e.330.4023
SEQUENCE:3
DTSTAMP:20260419T204138Z
URL:https://business.keybiscaynechamber.org/events/details/event-at-stefano-s-wine-liquor-11-12-2013-4023
END:VEVENT

END:VCALENDAR
