BEGIN:VCALENDAR
VERSION:2.0
PRODID:-//ChamberMaster//Event Calendar 2.0//EN
METHOD:PUBLISH
X-PUBLISHED-TTL:P3D
REFRESH-INTERVAL:P3D
CALSCALE:GREGORIAN
BEGIN:VEVENT
DTSTART:20131109T220000Z
DTEND:20131110T010000Z
X-MICROSOFT-CDO-ALLDAYEVENT:FALSE
SUMMARY:Event at Stefano's Wine & Liquor
DESCRIPTION:ARGENTINIAN WNES & CORDIALS TASTING\n\n\n\n\n\nBODEGAS IACARRINI\, BONARDA\,  ARGENTINA\n\n\n\n\n\nCORDIAL\n\n\n\n\n\nCOINTREAU\, FRANCE
X-ALT-DESC;FMTTYPE=text/html:<u><strong>ARGENTINIAN WNES &amp\; CORDIALS TASTING</strong></u><br />\n<br />\n<br />\nBODEGAS IACARRINI\, BONARDA\,&nbsp\; ARGENTINA<br />\n<br />\n<br />\n<u><strong>CORDIAL</strong></u><br />\n<br />\n<br />\nCOINTREAU\, FRANCE
LOCATION:STEFANO?S WINE & LIQUOR AT THE GALLERIA MALL
UID:e.330.4022
SEQUENCE:3
DTSTAMP:20260419T204150Z
URL:https://business.keybiscaynechamber.org/events/details/event-at-stefano-s-wine-liquor-11-09-2013-4022
END:VEVENT

END:VCALENDAR
