BEGIN:VCALENDAR
VERSION:2.0
PRODID:-//ChamberMaster//Event Calendar 2.0//EN
METHOD:PUBLISH
X-PUBLISHED-TTL:P3D
REFRESH-INTERVAL:P3D
CALSCALE:GREGORIAN
BEGIN:VEVENT
DTSTART:20131108T220000Z
DTEND:20131109T010000Z
X-MICROSOFT-CDO-ALLDAYEVENT:FALSE
SUMMARY:Event at Stefano's Wine & Liquor
DESCRIPTION:SPANISH WINES & TEQUILA TASTING\n\n\n\n\n\nCUNE CRIANZA\, RIBERA DEL DUERO\, SPAIN\n\nIMPERIAL\, RIBERA DEL DUERO\, SPAIN\n\n\n\nTEQUILA\n\n\n\nDON RAMON TEQUILA
X-ALT-DESC;FMTTYPE=text/html:<strong><u>SPANISH WINES &amp\; TEQUILA TASTING</u></strong><br />\n<br />\n<br />\nCUNE CRIANZA\, RIBERA DEL DUERO\, SPAIN<br />\nIMPERIAL\, RIBERA DEL DUERO\, SPAIN<br />\n<br />\n<u><strong>TEQUILA</strong></u><br />\n<br />\nDON RAMON TEQUILA
LOCATION:STEFANO?S WINE & LIQUOR AT THE GALLERIA MALL
UID:e.330.4021
SEQUENCE:3
DTSTAMP:20260419T222547Z
URL:https://business.keybiscaynechamber.org/events/details/event-at-stefano-s-wine-liquor-11-08-2013-4021
END:VEVENT

END:VCALENDAR
