BEGIN:VCALENDAR
VERSION:2.0
PRODID:-//ChamberMaster//Event Calendar 2.0//EN
METHOD:PUBLISH
X-PUBLISHED-TTL:P3D
REFRESH-INTERVAL:P3D
CALSCALE:GREGORIAN
BEGIN:VEVENT
DTSTART:20131102T210000Z
DTEND:20131103T000000Z
X-MICROSOFT-CDO-ALLDAYEVENT:FALSE
SUMMARY:Event at Stefano's Wine & Liquor
DESCRIPTION:CHAMPAGNE & TEQUILA TASTING\n\n\n\n\n\nLAURENT PERRIER \, ROSE\, FRANCE\n\n\n\n\n\nEL CAPO TEQUILA\, SILVER & REPOSADO
X-ALT-DESC;FMTTYPE=text/html:<span style="font-size: 14px"><u><strong>CHAMPAGNE &amp\; TEQUILA TASTING</strong></u><br />\n<br />\n<br />\n<strong>LAURENT PERRIER \, ROSE\, FRANCE<br />\n<br />\n<br />\nEL CAPO TEQUILA\, SILVER &amp\; REPOSADO</strong></span>
LOCATION:STEFANO?S WINE & LIQUOR AT THE GALLERIA MALL
UID:e.330.4020
SEQUENCE:3
DTSTAMP:20260419T222546Z
URL:https://business.keybiscaynechamber.org/events/details/event-at-stefano-s-wine-liquor-11-02-2013-4020
END:VEVENT

END:VCALENDAR
