BEGIN:VCALENDAR
VERSION:2.0
PRODID:-//ChamberMaster//Event Calendar 2.0//EN
METHOD:PUBLISH
X-PUBLISHED-TTL:P3D
REFRESH-INTERVAL:P3D
CALSCALE:GREGORIAN
BEGIN:VEVENT
DTSTART:20131026T210000Z
DTEND:20131027T000000Z
X-MICROSOFT-CDO-ALLDAYEVENT:FALSE
SUMMARY:Event at Stefano's Wine & Liquor
DESCRIPTION:ARGENTINIAN  &NEW ZEALNDS WINES &  RUM TASTING\n\n\n\nGRAFFIGNA RED BLEND\, ARGENTINA\n\nBANCROFFT SAVIGNON BLANC\, NEW ZEALAND\n\n\n\nRUM\n\n\n\nRON BOTRAN
X-ALT-DESC;FMTTYPE=text/html:<u><strong>ARGENTINIAN&nbsp\; &amp\;NEW ZEALNDS WINES &amp\; &nbsp\;RUM TASTING</strong></u><br />\n<br />\n<strong>GRAFFIGNA RED BLEND\, ARGENTINA<br />\nBANCROFFT SAVIGNON BLANC\, NEW ZEALAND</strong><br />\n<br />\n<u><strong>RUM</strong></u><br />\n<br />\n<strong>RON BOTRAN</strong>
LOCATION:STEFANO?S WINE & LIQUOR AT THE GALLERIA MALL
UID:e.330.4016
SEQUENCE:3
DTSTAMP:20260419T222601Z
URL:https://business.keybiscaynechamber.org/events/details/event-at-stefano-s-wine-liquor-10-26-2013-4016
END:VEVENT

END:VCALENDAR
