BEGIN:VCALENDAR
VERSION:2.0
PRODID:-//ChamberMaster//Event Calendar 2.0//EN
METHOD:PUBLISH
X-PUBLISHED-TTL:P3D
REFRESH-INTERVAL:P3D
CALSCALE:GREGORIAN
BEGIN:VEVENT
DTSTART:20131025T210000Z
DTEND:20131026T000000Z
X-MICROSOFT-CDO-ALLDAYEVENT:FALSE
SUMMARY:Event at Stefano's Wine & Liquor
DESCRIPTION:SPANISH WINES & PREMIUM VODKA TASTING\n\n\n\nCUNE RESERVA\, RIOJA\n\nCUNE ROSE'\n\n\n\n\n\nVODKA\n\n\n\nDOUBLE CROSS VODKA
X-ALT-DESC;FMTTYPE=text/html:<span style="font-size: 14px"><strong><u>SPANISH WINES &amp\; PREMIUM VODKA TASTING</u><br />\n<br />\nCUNE RESERVA\, RIOJA<br />\nCUNE ROSE&#39\;<br />\n<br />\n<br />\n<u>VODKA</u><br />\n<br />\nDOUBLE CROSS VODKA</strong></span>
LOCATION:STEFANO?S WINE & LIQUOR AT THE GALLERIA MALL
UID:e.330.4015
SEQUENCE:3
DTSTAMP:20260419T235849Z
URL:https://business.keybiscaynechamber.org/events/details/event-at-stefano-s-wine-liquor-10-25-2013-4015
END:VEVENT

END:VCALENDAR
