BEGIN:VCALENDAR
VERSION:2.0
PRODID:-//ChamberMaster//Event Calendar 2.0//EN
METHOD:PUBLISH
X-PUBLISHED-TTL:P3D
REFRESH-INTERVAL:P3D
CALSCALE:GREGORIAN
BEGIN:VEVENT
DTSTART:20131019T210000Z
DTEND:20131020T000000Z
X-MICROSOFT-CDO-ALLDAYEVENT:FALSE
SUMMARY:Event at Stefano's Wine & Liquor
DESCRIPTION:CALIFORNIA WINES & RUM TASTING\n\n\n\nWENTE FAMILY VINEYARDS\,  CHARDONNAY\, SAVIGNON BLANC & PINOT NOIR\n\n\n\n\n\nRUM\n\n\n\nMOUNT GAY BLACK RUM
X-ALT-DESC;FMTTYPE=text/html:<span style="font-size: 14px"><u><strong>CALIFORNIA WINES &amp\; RUM TASTING</strong></u><br />\n<br />\n<strong>WENTE FAMILY VINEYARDS\,&nbsp\; CHARDONNAY\, SAVIGNON BLANC &amp\; PINOT NOIR<br />\n<br />\n<br />\n<u>RUM</u><br />\n<br />\nMOUNT GAY BLACK RUM</strong></span>
LOCATION:STEFANO?S WINE & LIQUOR AT THE GALLERIA MALL
UID:e.330.4012
SEQUENCE:3
DTSTAMP:20260419T235758Z
URL:https://business.keybiscaynechamber.org/events/details/event-at-stefano-s-wine-liquor-10-19-2013-4012
END:VEVENT

END:VCALENDAR
