BEGIN:VCALENDAR
VERSION:2.0
PRODID:-//ChamberMaster//Event Calendar 2.0//EN
METHOD:PUBLISH
X-PUBLISHED-TTL:P3D
REFRESH-INTERVAL:P3D
CALSCALE:GREGORIAN
BEGIN:VEVENT
DTSTART:20131018T210000Z
DTEND:20131019T000000Z
X-MICROSOFT-CDO-ALLDAYEVENT:FALSE
SUMMARY:Event at Stefano's Wine & Liquor
DESCRIPTION:NEW ZEALAND WINES & COINTREAU TASTING\n\n\n\nOYSTER BAY SAVIGNON BLANC\, NEW ZEALAND\n\n\n\nCORDIAL\n\n\n\n\n\nCOINTREAU\,  FRANCE
X-ALT-DESC;FMTTYPE=text/html:<strong><span style="font-size: 14px"><u>NEW ZEALAND WINES &amp\; COINTREAU TASTING</u><br />\n<br />\nOYSTER BAY SAVIGNON BLANC\, NEW ZEALAND<br />\n<br />\n<u>CORDIAL</u><br />\n<br />\n<br />\nCOINTREAU\,&nbsp\; FRANCE</span></strong>
LOCATION:STEFANO?S WINE & LIQUOR AT THE GALLERIA MALL
UID:e.330.4011
SEQUENCE:3
DTSTAMP:20260419T222602Z
URL:https://business.keybiscaynechamber.org/events/details/event-at-stefano-s-wine-liquor-10-18-2013-4011
END:VEVENT

END:VCALENDAR
