BEGIN:VCALENDAR
VERSION:2.0
PRODID:-//ChamberMaster//Event Calendar 2.0//EN
METHOD:PUBLISH
X-PUBLISHED-TTL:P3D
REFRESH-INTERVAL:P3D
CALSCALE:GREGORIAN
BEGIN:VEVENT
DTSTART:20131011T210000Z
DTEND:20131012T000000Z
X-MICROSOFT-CDO-ALLDAYEVENT:FALSE
SUMMARY:Event at Stefano's Wine & Liquor
DESCRIPTION:SPANISH WINE & RUM TASTING\n\n\n\nBODEGAS ALTO MONCAYO\,  RED BLEND\,\n\n\n\nRUM\n\n\n\nRON BOTRAN\, SOLERA
X-ALT-DESC;FMTTYPE=text/html:<strong><span style="font-size: 14px"><u>SPANISH WINE &amp\; RUM TASTING</u><br />\n<br />\nBODEGAS ALTO MONCAYO\,&nbsp\; RED BLEND\,<br />\n<br />\n<u>RUM</u><br />\n<br />\nRON BOTRAN\, SOLERA</span></strong>
LOCATION:STEFANO?S WINE & LIQUOR AT THE GALLERIA MALL
UID:e.330.4007
SEQUENCE:3
DTSTAMP:20260419T222548Z
URL:https://business.keybiscaynechamber.org/events/details/event-at-stefano-s-wine-liquor-10-11-2013-4007
END:VEVENT

END:VCALENDAR
