BEGIN:VCALENDAR
VERSION:2.0
PRODID:-//ChamberMaster//Event Calendar 2.0//EN
METHOD:PUBLISH
X-PUBLISHED-TTL:P3D
REFRESH-INTERVAL:P3D
CALSCALE:GREGORIAN
BEGIN:VEVENT
DTSTART:20131004T210000Z
DTEND:20131005T000000Z
X-MICROSOFT-CDO-ALLDAYEVENT:FALSE
SUMMARY:Event at Stefano's Wine & Liquor
DESCRIPTION:CALIFORNIA RED BLEND & TEQUILA TASTING\n\n\n\nTHE DREAMING TREE\, NAPA VALLEY\n\n\n\nTEQUILA\n\n\n\nEL CAPO\, SILVER & ANEJO
X-ALT-DESC;FMTTYPE=text/html:<strong><span style="font-size: 16px"><u>CALIFORNIA RED BLEND &amp\; TEQUILA TASTING</u><br />\n<br />\nTHE DREAMING TREE\, NAPA VALLEY<br />\n<br />\n<u>TEQUILA</u><br />\n<br />\nEL CAPO\, SILVER &amp\; ANEJO</span></strong>
LOCATION:STEFANO?S WINE & LIQUOR AT THE GALLERIA MALL
UID:e.330.4003
SEQUENCE:3
DTSTAMP:20260419T222439Z
URL:https://business.keybiscaynechamber.org/events/details/event-at-stefano-s-wine-liquor-10-04-2013-4003
END:VEVENT

END:VCALENDAR
