BEGIN:VCALENDAR
VERSION:2.0
PRODID:-//ChamberMaster//Event Calendar 2.0//EN
METHOD:PUBLISH
X-PUBLISHED-TTL:P3D
REFRESH-INTERVAL:P3D
CALSCALE:GREGORIAN
BEGIN:VEVENT
DTSTART:20130921T210000Z
DTEND:20130922T000000Z
X-MICROSOFT-CDO-ALLDAYEVENT:FALSE
SUMMARY:Event at Stefano's Wine & Liquor
DESCRIPTION:CALIFORNIA WINE TASTING\n\n\n\nOOH LA LA WINES\, \n\n\n\nRUM TASTING\n\n\n\nRON ATLANTICO\, DOMINICAN REPUBLIC
X-ALT-DESC;FMTTYPE=text/html:<strong><u>CALIFORNIA WINE TASTING</u><br />\n<br />\nOOH LA LA WINES\,&nbsp\;<br />\n<br />\n<u>RUM TASTING</u><br />\n<br />\nRON ATLANTICO\, DOMINICAN REPUBLIC</strong>
LOCATION:STEFANO?S WINE & LIQUOR AT THE GALLERIA MALL
UID:e.330.3998
SEQUENCE:3
DTSTAMP:20260420T013041Z
URL:https://business.keybiscaynechamber.org/events/details/event-at-stefano-s-wine-liquor-09-21-2013-3998
END:VEVENT

END:VCALENDAR
