BEGIN:VCALENDAR
VERSION:2.0
PRODID:-//ChamberMaster//Event Calendar 2.0//EN
METHOD:PUBLISH
X-PUBLISHED-TTL:P3D
REFRESH-INTERVAL:P3D
CALSCALE:GREGORIAN
BEGIN:VEVENT
DTSTART:20130920T210000Z
DTEND:20130921T000000Z
X-MICROSOFT-CDO-ALLDAYEVENT:FALSE
SUMMARY:Event at Stefano's Wine & Liquor
DESCRIPTION:ARGENTINIAN WINE TASTING\n\n\n\nVISTALBA\, CORTE A\, B & C\, MENDOZA\n\nTOMERO MALBEC\n\n\n\nTEQUILA TASTING\n\n\n\nDON RAMON TEQUILA\,  SILVER & REPOSADO
X-ALT-DESC;FMTTYPE=text/html:<span style="font-size: 14px"><strong><u>ARGENTINIAN WINE TASTING</u><br />\n<br />\nVISTALBA\, CORTE A\, B &amp\; C\, MENDOZA<br />\nTOMERO MALBEC<br />\n<br />\n<u>TEQUILA TASTING</u><br />\n<br />\nDON RAMON TEQUILA\,&nbsp\; SILVER &amp\; REPOSADO</strong></span>
LOCATION:STEFANO?S WINE & LIQUOR AT THE GALLERIA MALL
UID:e.330.3997
SEQUENCE:3
DTSTAMP:20260420T013025Z
URL:https://business.keybiscaynechamber.org/events/details/event-at-stefano-s-wine-liquor-09-20-2013-3997
END:VEVENT

END:VCALENDAR
