BEGIN:VCALENDAR
VERSION:2.0
PRODID:-//ChamberMaster//Event Calendar 2.0//EN
METHOD:PUBLISH
X-PUBLISHED-TTL:P3D
REFRESH-INTERVAL:P3D
CALSCALE:GREGORIAN
BEGIN:VEVENT
DTSTART:20130914T210000Z
DTEND:20130915T000000Z
X-MICROSOFT-CDO-ALLDAYEVENT:FALSE
SUMMARY:Event at Stefano's Wine & Liquor
DESCRIPTION:RUM TASTING\n\n\n\nRON BOTRAN\,  GUATEMALA\n\n\n\nRESERVA & SOLERA TASTING
X-ALT-DESC;FMTTYPE=text/html:<span style="font-size: 14px"><u><strong>RUM TASTING</strong></u><br />\n<br />\n<strong>RON BOTRAN\,&nbsp\; GUATEMALA<br />\n<br />\nRESERVA &amp\; SOLERA TASTING</strong></span>
LOCATION:STEFANO?S WINE & LIQUOR AT THE GALLERIA MALL
UID:e.330.3986
SEQUENCE:3
DTSTAMP:20260419T235923Z
URL:https://business.keybiscaynechamber.org/events/details/event-at-stefano-s-wine-liquor-09-14-2013-3986
END:VEVENT

END:VCALENDAR
