BEGIN:VCALENDAR
VERSION:2.0
PRODID:-//ChamberMaster//Event Calendar 2.0//EN
METHOD:PUBLISH
X-PUBLISHED-TTL:P3D
REFRESH-INTERVAL:P3D
CALSCALE:GREGORIAN
BEGIN:VEVENT
DTSTART:20130913T210000Z
DTEND:20130914T000000Z
X-MICROSOFT-CDO-ALLDAYEVENT:FALSE
SUMMARY:Event at Stefano's Wine & Liquor
DESCRIPTION:VODKA TASTING\n\n\n\nDOUBLE CROSS VODKA\,  SLOVAK REPUBLIC\, 95 PTS (WINE ENTHUSIAST)\n\nDouble Cross is seven-times distilled and seven-times filtered
X-ALT-DESC;FMTTYPE=text/html:<u><strong>VODKA TASTING</strong></u><br />\n<br />\n<strong>DOUBLE CROSS VODKA\,&nbsp\; SLOVAK REPUBLIC\, 95 PTS (WINE ENTHUSIAST)<br />\nDouble Cross is seven-times distilled and seven-times filtered</strong><br />\n
LOCATION:STEFANO?S WINE & LIQUOR AT THE GALLERIA MALL
UID:e.330.3985
SEQUENCE:3
DTSTAMP:20260419T235924Z
URL:https://business.keybiscaynechamber.org/events/details/event-at-stefano-s-wine-liquor-09-13-2013-3985
END:VEVENT

END:VCALENDAR
