BEGIN:VCALENDAR
VERSION:2.0
PRODID:-//ChamberMaster//Event Calendar 2.0//EN
METHOD:PUBLISH
X-PUBLISHED-TTL:P3D
REFRESH-INTERVAL:P3D
CALSCALE:GREGORIAN
BEGIN:VEVENT
DTSTART:20130907T210000Z
DTEND:20130908T000000Z
X-MICROSOFT-CDO-ALLDAYEVENT:FALSE
SUMMARY:Event at Stefano's Wine & Liquor
DESCRIPTION:CALIFORNIA NAPA WINE TASTING & COINTREAU\n\n\n\nNAPANOOK\, RED BLEND\n\n\n\nCOINTREAU\, FRANCE
X-ALT-DESC;FMTTYPE=text/html:<span style="font-size: 16px"><u><strong>CALIFORNIA NAPA WINE TASTING &amp\; COINTREAU</strong></u><br />\n<br />\n<strong>NAPANOOK\, RED BLEND<br />\n<br />\nCOINTREAU\, FRANCE</strong></span>
LOCATION:STEFANO?S WINE & LIQUOR AT THE GALLERIA MALL
UID:e.330.3980
SEQUENCE:3
DTSTAMP:20260419T235918Z
URL:https://business.keybiscaynechamber.org/events/details/event-at-stefano-s-wine-liquor-09-07-2013-3980
END:VEVENT

END:VCALENDAR
