BEGIN:VCALENDAR
VERSION:2.0
PRODID:-//ChamberMaster//Event Calendar 2.0//EN
METHOD:PUBLISH
X-PUBLISHED-TTL:P3D
REFRESH-INTERVAL:P3D
CALSCALE:GREGORIAN
BEGIN:VEVENT
DTSTART:20130831T210000Z
DTEND:20130901T000000Z
X-MICROSOFT-CDO-ALLDAYEVENT:FALSE
SUMMARY:Event at Stefano's Wine & Liquor
DESCRIPTION:PINOT NOIR & SAVIGNON BLANCS & SPARKLING WINE TASTING\n\n\n\nPONZI TAVOLA PINOT NOIR\, CALIFORNA\n\n\n\nLOVEBLOCK SAUVIGNON BLANC\, NEW ZEALAND\n\n\n\nFANTINEL SPARKLING WINE\, CALIFORNIA
X-ALT-DESC;FMTTYPE=text/html:<span style="font-size: 14px"><strong><u>PINOT NOIR &amp\; SAVIGNON BLANCS &amp\; SPARKLING WINE TASTING</u><br />\n<br />\nPONZI TAVOLA PINOT NOIR\, CALIFORNA<br />\n<br />\nLOVEBLOCK SAUVIGNON BLANC\, NEW ZEALAND<br />\n<br />\nFANTINEL SPARKLING WINE\, CALIFORNIA</strong></span>
LOCATION:STEFANO?S WINE & LIQUOR AT THE GALLERIA MALL
UID:e.330.3977
SEQUENCE:3
DTSTAMP:20260420T013931Z
URL:https://business.keybiscaynechamber.org/events/details/event-at-stefano-s-wine-liquor-08-31-2013-3977
END:VEVENT

END:VCALENDAR
