BEGIN:VCALENDAR
VERSION:2.0
PRODID:-//ChamberMaster//Event Calendar 2.0//EN
METHOD:PUBLISH
X-PUBLISHED-TTL:P3D
REFRESH-INTERVAL:P3D
CALSCALE:GREGORIAN
BEGIN:VEVENT
DTSTART:20130830T210000Z
DTEND:20130831T000000Z
X-MICROSOFT-CDO-ALLDAYEVENT:FALSE
SUMMARY:Event at Stefano's Wine & Liquor
DESCRIPTION:CALIFORNIA WINE TASTNG\n\n\n\nWINES BY ORIN SWIFT:  ABSTRACT RED BLEND & PALERMO RED BLEND\n\n\n\n\n\nRUM TASTING:\n\n\n\nRON ATLANTICO\, DOMICAN REPUBLIC
X-ALT-DESC;FMTTYPE=text/html:<span style="font-size: 14px"><strong><u>CALIFORNIA WINE TASTNG</u></strong><br />\n<br />\nWINES BY ORIN SWIFT:&nbsp\; ABSTRACT RED BLEND &amp\; PALERMO RED BLEND<br />\n<br />\n<br />\n<u><strong>RUM TASTING:</strong></u><br />\n<br />\nRON ATLANTICO\, DOMICAN REPUBLIC</span>
LOCATION:STEFANO?S WINE & LIQUOR AT THE GALLERIA MALL
UID:e.330.3976
SEQUENCE:3
DTSTAMP:20260420T013932Z
URL:https://business.keybiscaynechamber.org/events/details/event-at-stefano-s-wine-liquor-08-30-2013-3976
END:VEVENT

END:VCALENDAR
