BEGIN:VCALENDAR
VERSION:2.0
PRODID:-//ChamberMaster//Event Calendar 2.0//EN
METHOD:PUBLISH
X-PUBLISHED-TTL:P3D
REFRESH-INTERVAL:P3D
CALSCALE:GREGORIAN
BEGIN:VEVENT
DTSTART:20130824T210000Z
DTEND:20130825T000000Z
X-MICROSOFT-CDO-ALLDAYEVENT:FALSE
SUMMARY:Event at Stefano's Wine & Liquor
DESCRIPTION:CULT WINES FROM CALIFORNIA TASTING\n\n\n\nWEDDING WINE RED BLEND\n\nCOUTURE RED BLEND
X-ALT-DESC;FMTTYPE=text/html:<u><strong>CULT WINES FROM CALIFORNIA TASTING</strong></u><br />\n<br />\n<strong>WEDDING WINE RED BLEND<br />\nCOUTURE RED BLEND</strong><br />\n
LOCATION:STEFANO?S WINE & LIQUOR AT THE GALLERIA MALL
UID:e.330.3972
SEQUENCE:3
DTSTAMP:20260420T014048Z
URL:https://business.keybiscaynechamber.org/events/details/event-at-stefano-s-wine-liquor-08-24-2013-3972
END:VEVENT

END:VCALENDAR
