BEGIN:VCALENDAR
VERSION:2.0
PRODID:-//ChamberMaster//Event Calendar 2.0//EN
METHOD:PUBLISH
X-PUBLISHED-TTL:P3D
REFRESH-INTERVAL:P3D
CALSCALE:GREGORIAN
BEGIN:VEVENT
DTSTART:20130823T210000Z
DTEND:20130824T000000Z
X-MICROSOFT-CDO-ALLDAYEVENT:FALSE
SUMMARY:Event at Stefano's Wine & Liquor
DESCRIPTION:ARGENTINIAN WINE TASTING\n\n\n\nBRAMARE MALBEC\, MENDOZA
X-ALT-DESC;FMTTYPE=text/html:<strong><span style="font-size: 14px"><span style="font-family: arial\, helvetica\, sans-serif"><u>ARGENTINIAN WINE TASTING</u><br />\n<br />\nBRAMARE MALBEC\, MENDOZA</span></span></strong>
LOCATION:STEFANO?S WINE & LIQUOR AT THE GALLERIA MALL
UID:e.330.3971
SEQUENCE:3
DTSTAMP:20260420T025739Z
URL:https://business.keybiscaynechamber.org/events/details/event-at-stefano-s-wine-liquor-08-23-2013-3971
END:VEVENT

END:VCALENDAR
