BEGIN:VCALENDAR
VERSION:2.0
PRODID:-//ChamberMaster//Event Calendar 2.0//EN
METHOD:PUBLISH
X-PUBLISHED-TTL:P3D
REFRESH-INTERVAL:P3D
CALSCALE:GREGORIAN
BEGIN:VEVENT
DTSTART:20130817T210000Z
DTEND:20130818T000000Z
X-MICROSOFT-CDO-ALLDAYEVENT:FALSE
SUMMARY:Event at Stefano's Wine & Liquor
DESCRIPTION:CHILEAN WINE TASTING & RUM\n\n\n\nANDERRA WINE CELLARS\,   SAVIGNON BLANC\, CARMENERE & CABERNET SAVIGNON\n\n\n\nRON BOTRAN\, SOLERA
X-ALT-DESC;FMTTYPE=text/html:<span style="font-size: 14px"><strong><u>CHILEAN WINE TASTING &amp\; RUM</u><br />\n<br />\nANDERRA WINE CELLARS\,&nbsp\;&nbsp\; SAVIGNON BLANC\, CARMENERE &amp\; CABERNET SAVIGNON<br />\n<br />\nRON BOTRAN\, SOLERA</strong></span>
LOCATION:STEFANO?S WINE & LIQUOR AT THE GALLERIA MALL
UID:e.330.3969
SEQUENCE:3
DTSTAMP:20260420T014047Z
URL:https://business.keybiscaynechamber.org/events/details/event-at-stefano-s-wine-liquor-08-17-2013-3969
END:VEVENT

END:VCALENDAR
