BEGIN:VCALENDAR
VERSION:2.0
PRODID:-//ChamberMaster//Event Calendar 2.0//EN
METHOD:PUBLISH
X-PUBLISHED-TTL:P3D
REFRESH-INTERVAL:P3D
CALSCALE:GREGORIAN
BEGIN:VEVENT
DTSTART:20130816T210000Z
DTEND:20130817T000000Z
X-MICROSOFT-CDO-ALLDAYEVENT:FALSE
SUMMARY:Event at Stefano's Wine & Liquor
DESCRIPTION:PREMIUM VODKA & FRENC ROSE' WINE\n\n\n\nWHISPERING ANGEL  / Provence\n\n\n\nBELVEDERE VODKA\, POLAND
X-ALT-DESC;FMTTYPE=text/html:<u><strong>PREMIUM VODKA &amp\; FRENC ROSE&#39\; WINE</strong></u><br />\n<br />\n<strong>WHISPERING ANGEL &nbsp\;/ Provence<br />\n<br />\nBELVEDERE VODKA\, POLAND</strong><br />\n<br />\n
LOCATION:STEFANO?S WINE & LIQUOR AT THE GALLERIA MALL
UID:e.330.3968
SEQUENCE:3
DTSTAMP:20260420T025742Z
URL:https://business.keybiscaynechamber.org/events/details/event-at-stefano-s-wine-liquor-08-16-2013-3968
END:VEVENT

END:VCALENDAR
