BEGIN:VCALENDAR
VERSION:2.0
PRODID:-//ChamberMaster//Event Calendar 2.0//EN
METHOD:PUBLISH
X-PUBLISHED-TTL:P3D
REFRESH-INTERVAL:P3D
CALSCALE:GREGORIAN
BEGIN:VEVENT
DTSTART:20130810T210000Z
DTEND:20130811T000000Z
X-MICROSOFT-CDO-ALLDAYEVENT:FALSE
SUMMARY:Event at Stefano's Wine & Liquor
DESCRIPTION:ITALIAN PROSECCO TASTING & FRENCH ROSE WINE\n\n\n\nFOSS MARAI BRUT & ROSE\n\n\n\nCHENE BLEU ROSE\, PROVENCE  ( RATED TOP 5 ROSE' WINE)
X-ALT-DESC;FMTTYPE=text/html:<span style="font-size: 14px"><u><strong>ITALIAN PROSECCO TASTING &amp\; FRENCH ROSE WINE</strong></u><br />\n<br />\n<strong>FOSS MARAI BRUT &amp\; ROSE<br />\n<br />\nCHENE BLEU ROSE\, PROVENCE&nbsp\; ( RATED TOP 5 ROSE&#39\; WINE)</strong></span>
LOCATION:STEFANO?S WINE & LIQUOR AT THE GALLERIA MALL
UID:e.330.3965
SEQUENCE:3
DTSTAMP:20260420T013930Z
URL:https://business.keybiscaynechamber.org/events/details/event-at-stefano-s-wine-liquor-08-10-2013-3965
END:VEVENT

END:VCALENDAR
