BEGIN:VCALENDAR
VERSION:2.0
PRODID:-//ChamberMaster//Event Calendar 2.0//EN
METHOD:PUBLISH
X-PUBLISHED-TTL:P3D
REFRESH-INTERVAL:P3D
CALSCALE:GREGORIAN
BEGIN:VEVENT
DTSTART:20130803T210000Z
DTEND:20130804T000000Z
X-MICROSOFT-CDO-ALLDAYEVENT:FALSE
SUMMARY:Event at Stefano's Wine & Liquor
DESCRIPTION:SPAINSH WINES & RUM TASTING\n\n\n\nPAGO DE CAPELLANES CRIANZA & ROBLE ( 93PTS PARKER)\, RIBERA DEL DUERO\, SPAIN\n\nVALDEMONXES ALBARINO\,  RIAS BAIXAS\, SPAIN\n\n\n\nBOTRAN RUM\, RESERVA & SOELRA
X-ALT-DESC;FMTTYPE=text/html:<span style="font-size: 14px"><u><strong>SPAINSH WINES &amp\; RUM TASTING</strong></u><br />\n<br />\n<strong>PAGO DE CAPELLANES CRIANZA &amp\; ROBLE ( 93PTS PARKER)\, RIBERA DEL DUERO\, SPAIN<br />\nVALDEMONXES ALBARINO\,&nbsp\; RIAS BAIXAS\, SPAIN<br />\n<br />\nBOTRAN RUM\, RESERVA &amp\; SOELRA</strong></span>
LOCATION:STEFANO?S WINE & LIQUOR AT THE GALLERIA MALL
UID:e.330.3957
SEQUENCE:3
DTSTAMP:20260420T014152Z
URL:https://business.keybiscaynechamber.org/events/details/event-at-stefano-s-wine-liquor-08-03-2013-3957
END:VEVENT

END:VCALENDAR
