BEGIN:VCALENDAR
VERSION:2.0
PRODID:-//ChamberMaster//Event Calendar 2.0//EN
METHOD:PUBLISH
X-PUBLISHED-TTL:P3D
REFRESH-INTERVAL:P3D
CALSCALE:GREGORIAN
BEGIN:VEVENT
DTSTART:20130802T210000Z
DTEND:20130803T000000Z
X-MICROSOFT-CDO-ALLDAYEVENT:FALSE
SUMMARY:Event at Stefano's Wine & Liquor
DESCRIPTION:ARGENTINIAN & SPANISH WINE TASTING\n\n\n\nZORZAL MALBEC\, MENDOZA\, ARGENTINA\n\nACUSTIC RED BLEND\, MONTSANT\, SPAIN\n\n\n\nRUM TASTING\n\n\n\n10 CANE RUM
X-ALT-DESC;FMTTYPE=text/html:<span style="font-size: 14px"><strong><u>ARGENTINIAN &amp\; SPANISH WINE TASTING</u><br />\n<br />\nZORZAL MALBEC\, MENDOZA\, ARGENTINA<br />\nACUSTIC RED BLEND\, MONTSANT\, SPAIN<br />\n<br />\n<u>RUM TASTING</u><br />\n<br />\n10 CANE RUM</strong></span>
LOCATION:STEFANO?S WINE & LIQUOR AT THE GALLERIA MALL
UID:e.330.3956
SEQUENCE:3
DTSTAMP:20260420T014046Z
URL:https://business.keybiscaynechamber.org/events/details/event-at-stefano-s-wine-liquor-08-02-2013-3956
END:VEVENT

END:VCALENDAR
