BEGIN:VCALENDAR
VERSION:2.0
PRODID:-//ChamberMaster//Event Calendar 2.0//EN
METHOD:PUBLISH
X-PUBLISHED-TTL:P3D
REFRESH-INTERVAL:P3D
CALSCALE:GREGORIAN
BEGIN:VEVENT
DTSTART:20130727T210000Z
DTEND:20130728T000000Z
X-MICROSOFT-CDO-ALLDAYEVENT:FALSE
SUMMARY:Event at Stefano's Wine & Liquor
DESCRIPTION:SPANISH WINES TASTING\n\n	\n\n	VALDUERO FAMILY WINERY\, RIBERA DEL DUERO  94PTS PARKER\n\n	\n\n	CRIANZA\, RESERVA & GRAN RESERVA
X-ALT-DESC;FMTTYPE=text/html:<p>\n	<span style="font-size: 14px"><u><strong>SPANISH WINES TASTING</strong></u><br />\n	<br />\n	<strong>VALDUERO FAMILY WINERY\, RIBERA DEL DUERO&nbsp\; 94PTS PARKER<br />\n	<br />\n	CRIANZA\, RESERVA &amp\; GRAN RESERVA</strong></span></p>\n
LOCATION:STEFANO?S WINE & LIQUOR AT THE GALLERIA MALL
UID:e.330.3948
SEQUENCE:3
DTSTAMP:20260420T025758Z
URL:https://business.keybiscaynechamber.org/events/details/event-at-stefano-s-wine-liquor-07-27-2013-3948
END:VEVENT

END:VCALENDAR
