BEGIN:VCALENDAR
VERSION:2.0
PRODID:-//ChamberMaster//Event Calendar 2.0//EN
METHOD:PUBLISH
X-PUBLISHED-TTL:P3D
REFRESH-INTERVAL:P3D
CALSCALE:GREGORIAN
BEGIN:VEVENT
DTSTART:20130720T210000Z
DTEND:20130721T000000Z
X-MICROSOFT-CDO-ALLDAYEVENT:FALSE
SUMMARY:Event at Stefano's Wine & Liquor
DESCRIPTION:SPANISH WINE TASTING\n\n\n\nTRAMUZ\,  RED BLEND\n\n\n\nTRILLON\, WHITE VERDEJO\n\n\n\n\n\nTEQUILA TASTING\n\n\n\nFAMILIA CAMARENA
X-ALT-DESC;FMTTYPE=text/html:<u><strong><span style="font-size: 16px">SPANISH WINE TASTING</span></strong></u><br />\n<br />\n<strong><span style="font-size: 16px">TRAMUZ\,&nbsp\; RED BLEND<br />\n<br />\nTRILLON\, WHITE VERDEJO<br />\n<br />\n<br />\n<u>TEQUILA TASTING</u><br />\n<br />\nFAMILIA CAMARENA</span></strong>
LOCATION:STEFANO?S WINE & LIQUOR AT THE GALLERIA MALL
UID:e.330.3943
SEQUENCE:3
DTSTAMP:20260420T025741Z
URL:https://business.keybiscaynechamber.org/events/details/event-at-stefano-s-wine-liquor-07-20-2013-3943
END:VEVENT

END:VCALENDAR
