BEGIN:VCALENDAR
VERSION:2.0
PRODID:-//ChamberMaster//Event Calendar 2.0//EN
METHOD:PUBLISH
X-PUBLISHED-TTL:P3D
REFRESH-INTERVAL:P3D
CALSCALE:GREGORIAN
BEGIN:VEVENT
DTSTART:20130719T210000Z
DTEND:20130720T000000Z
X-MICROSOFT-CDO-ALLDAYEVENT:FALSE
SUMMARY:Event at Stefano's Wine & Liquor
DESCRIPTION:SPANISH APPERITIF TASTING\n\n\n\nHIERBAS IBIZENCIAS\,  IBIZA\, SPAIN\n\n\n\nCALIFORNIA WINE TASTING\n\n\n\nRAMEY CHARDONNAY. SONOMA COAST\n\nBEDROCK PAGANI\,  RED BLEND
X-ALT-DESC;FMTTYPE=text/html:<strong><span style="font-size: 16px"><span style="font-family: arial\, helvetica\, sans-serif"><u>SPANISH APPERITIF TASTING</u><br />\n<br />\nHIERBAS IBIZENCIAS\,&nbsp\; IBIZA\, SPAIN<br />\n<br />\n<u>CALIFORNIA WINE TASTING</u><br />\n<br />\nRAMEY CHARDONNAY. SONOMA COAST<br />\nBEDROCK PAGANI\, &nbsp\;RED BLEND</span></span></strong>
LOCATION:STEFANO?S WINE & LIQUOR AT THE GALLERIA MALL
UID:e.330.3942
SEQUENCE:3
DTSTAMP:20260420T025757Z
URL:https://business.keybiscaynechamber.org/events/details/event-at-stefano-s-wine-liquor-07-19-2013-3942
END:VEVENT

END:VCALENDAR
