BEGIN:VCALENDAR
VERSION:2.0
PRODID:-//ChamberMaster//Event Calendar 2.0//EN
METHOD:PUBLISH
X-PUBLISHED-TTL:P3D
REFRESH-INTERVAL:P3D
CALSCALE:GREGORIAN
BEGIN:VEVENT
DTSTART:20130705T210000Z
DTEND:20130706T000000Z
X-MICROSOFT-CDO-ALLDAYEVENT:FALSE
SUMMARY:Event at Stefano's Wine & Liquor
DESCRIPTION:SPANISH WINE TASTING & RUM\n\n\n\nVALDUERO CRIANZA\, RIBERA DEL DUERO  92 PTS PARKER\n\n\n\nPRADO REY\, RIBERA DEL DUERO\n\n\n\n\n\nRON ATLANTICO\, DOMINICAN REPUBLIC
X-ALT-DESC;FMTTYPE=text/html:<strong><span style="font-size: 14px"><u>SPANISH WINE TASTING &amp\; RUM</u></span></strong><br />\n<br />\nVALDUERO CRIANZA\, RIBERA DEL DUERO&nbsp\; 92 PTS PARKER<br />\n<br />\nPRADO REY\, RIBERA DEL DUERO<br />\n<br />\n<br />\nRON ATLANTICO\, DOMINICAN REPUBLIC
LOCATION:STEFANO?S WINE & LIQUOR AT THE GALLERIA MALL
UID:e.330.3939
SEQUENCE:3
DTSTAMP:20260420T025755Z
URL:https://business.keybiscaynechamber.org/events/details/event-at-stefano-s-wine-liquor-07-05-2013-3939
END:VEVENT

END:VCALENDAR
